{
 "currentVersion": 11.2,
 "serviceDescription": "Sea Surface Temperature is a key measurement for weather and climate prediction, ocean forecasts, tropical cyclone forecasts, and coastal applications such as fisheries, pollution monitoring, and tourism. For example, scientists use sea surface temperature data to forecast El Niño and La Niña events.",
 "name": "SST",
 "description": "Sea Surface Temperature is a key measurement for weather and climate prediction, ocean forecasts, tropical cyclone forecasts, and coastal applications such as fisheries, pollution monitoring, and tourism. For example, scientists use sea surface temperature data to forecast El Niño and La Niña events.",
 "extent": {
  "xmin": -180,
  "ymin": -89.99999847,
  "xmax": 179.99999387999998,
  "ymax": 89.99999847,
  "spatialReference": {
   "wkid": 4326,
   "latestWkid": 4326
  }
 },
 "initialExtent": {
  "xmin": -180,
  "ymin": -89.99999847,
  "xmax": 179.99999387999998,
  "ymax": 89.99999847,
  "spatialReference": {
   "wkid": 4326,
   "latestWkid": 4326
  }
 },
 "fullExtent": {
  "xmin": -180,
  "ymin": -89.99999847,
  "xmax": 179.99999387999998,
  "ymax": 89.99999847,
  "spatialReference": {
   "wkid": 4326,
   "latestWkid": 4326
  }
 },
 "sortableFields": "",
 "bandCount": 1,
 "pixelType": "F32",
 "minValues": [
  0
 ],
 "maxValues": [
  251
 ],
 "meanValues": [
  124.33116016439851
 ],
 "stdvValues": [
  125.33046318055806
 ],
 "hasMultidimensions": true,
 "timeInfo": {
  "startTimeField": "StdTime",
  "endTimeField": "StdTime",
  "timeExtent": [
   473428800000,
   1779019200000
  ],
  "timeReference": null,
  "defaultTimeInterval": 1,
  "defaultTimeIntervalUnits": "esriTimeUnitsDays"
 },
 "pixelSizeX": 0.049999999149999995,
 "pixelSizeY": 0.049999999149999995,
 "meanPixelSize": 5565.97444504211,
 "datasetFormat": "Cache/LERC2D",
 "uncompressedSize": 103680000,
 "blockWidth": 450,
 "blockHeight": 450,
 "compressionType": "LERC2D",
 "bandNames": [
  "Band_1"
 ],
 "allowCopy": true,
 "allowAnalysis": true,
 "itemAccess": false,
 "defaultVariable": "",
 "inspectionCapabilities": "",
 "noDataValue": 3.3999999521443642E38,
 "noDataValues": [
  3.3999999521443642E38
 ],
 "minPixelSize": 0,
 "maxPixelSize": 0,
 "copyrightText": "NOAA Coral Reef Watch",
 "serviceDataType": "esriImageServiceDataTypeScientific",
 "serviceSourceType": "esriImageServiceSourceTypeDataset",
 "objectIdField": "",
 "fields": [],
 "capabilities": "Mensuration,Image,Metadata",
 "defaultMosaicMethod": "Center",
 "allowedMosaicMethods": "",
 "sortField": "",
 "sortValue": null,
 "sortAscending": true,
 "mosaicOperator": "First",
 "defaultCompressionQuality": 75,
 "defaultResamplingMethod": "Bilinear",
 "maxImageHeight": 4100,
 "maxImageWidth": 15000,
 "allowRasterFunction": true,
 "rasterFunctionInfos": [
  {
   "name": "None",
   "description": "Make a Raster or Raster Dataset into a Function Raster Dataset.",
   "help": ""
  }
 ],
 "rasterTypeInfos": [
  {
   "name": "Raster Dataset",
   "description": "Supports all ArcGIS Raster Datasets",
   "help": ""
  }
 ],
 "mensurationCapabilities": "Basic",
 "hasHistograms": true,
 "hasColormap": false,
 "hasRasterAttributeTable": false,
 "minScale": 0,
 "maxScale": 0,
 "exportTilesAllowed": false,
 "supportsStatistics": false,
 "supportsAdvancedQueries": false,
 "editFieldsInfo": null,
 "ownershipBasedAccessControlForRasters": null,
 "allowComputeTiePoints": false,
 "useStandardizedQueries": true,
 "transposeInfo": {
  "cols": 16,
  "rows": 16
 },
 "advancedQueryCapabilities": {
  "useStandardizedQueries": true,
  "supportsStatistics": false,
  "supportsOrderBy": false,
  "supportsDistinct": false,
  "supportsPagination": false
 },
 "spatialReference": {
  "wkid": 4326,
  "latestWkid": 4326
 },
 "resampling": false
}
