{
 "currentVersion": 11.2,
 "serviceDescription": "Satellite-based assessments of ocean color began in 1978 with the launch of the Coastal Zone Color Scanner (CZCS) aboard the NASA Nimbus 7 satellite. Following a decade-long break in observations, there have been continuous satellite ocean color measurements since 1997 with Sea-Viewing Wide Field-of-View Sensor (SeaWiFS), followed by Medium Resolution Imaging Spectrometer (MERIS), Moderate Resolution Imaging Spectroradiometer (MODIS),Visible Infrared Imaging Radiometer Suite (VIIRS),Ocean Land Color Instrument (OLCI), Second Generation Global Imager (SGLI) and Ocean Color and Temperature Scanner (OCTS) with additional sensors in development. Data gaps from individual sensors are common due to revisit cycles, cloud cover, and spurious retrievals resulting from a host of confounding atmospheric and aquatic conditions. Some of these issues have been addressed by combining data from multiple sensors and creating a consistent, merged ocean color product (e.g., surface ocean chlorophyll-a concentration). The ESA Ocean Color CCI (OC-CCI) project, led by Plymouth Marine Laboratory (PML), has produced a consistent, merged chlorophyll-a product from SeaWiFS, MODIS, MERIS and VIIRS, spanning the years 1997 to 2019 (Sathyendranath et al., 2018). The merged multi-sensor product will be updated in both time and with data from additional sensors (e.g., OLCI) as part of the Copernicus Climate Change Service (C3S) and the Copernicus Marine Service (CMEMS) that will continue the time series on an operational basis. Future OC-CCI releases will also include algorithmic improvements developed under the CCI+ initiative. Chlorophyll-a concentrations for this indicator are obtained from the global ocean, 4 km spatial data from multiple sensors and creating a consistent, merged ocean color product for each pixel within a country\u2019s EEZ.For purposes of this sub-indicator, reporting year values are compared to a baseline of years 2000 to 2004. The baseline climatology was calculated as the mean of the 5 years of each month by pixel (e.g., mean of 5 years of January) resulting in a 5 year mean of each calendar month over the period 2000 to 2004. The processing steps are outlined.",
 "name": "chlorophyll/chlorophyll_sub1_monthly_deviation",
 "description": "Satellite-based assessments of ocean color began in 1978 with the launch of the Coastal Zone Color Scanner (CZCS) aboard the NASA Nimbus 7 satellite. Following a decade-long break in observations, there have been continuous satellite ocean color measurements since 1997 with Sea-Viewing Wide Field-of-View Sensor (SeaWiFS), followed by Medium Resolution Imaging Spectrometer (MERIS), Moderate Resolution Imaging Spectroradiometer (MODIS),Visible Infrared Imaging Radiometer Suite (VIIRS),Ocean Land Color Instrument (OLCI), Second Generation Global Imager (SGLI) and Ocean Color and Temperature Scanner (OCTS) with additional sensors in development. Data gaps from individual sensors are common due to revisit cycles, cloud cover, and spurious retrievals resulting from a host of confounding atmospheric and aquatic conditions. Some of these issues have been addressed by combining data from multiple sensors and creating a consistent, merged ocean color product (e.g., surface ocean chlorophyll-a concentration). The ESA Ocean Color CCI (OC-CCI) project, led by Plymouth Marine Laboratory (PML), has produced a consistent, merged chlorophyll-a product from SeaWiFS, MODIS, MERIS and VIIRS, spanning the years 1997 to 2019 (Sathyendranath et al., 2018). The merged multi-sensor product will be updated in both time and with data from additional sensors (e.g., OLCI) as part of the Copernicus Climate Change Service (C3S) and the Copernicus Marine Service (CMEMS) that will continue the time series on an operational basis. Future OC-CCI releases will also include algorithmic improvements developed under the CCI+ initiative. Chlorophyll-a concentrations for this indicator are obtained from the global ocean, 4 km spatial data from multiple sensors and creating a consistent, merged ocean color product for each pixel within a country\u2019s EEZ.For purposes of this sub-indicator, reporting year values are compared to a baseline of years 2000 to 2004. The baseline climatology was calculated as the mean of the 5 years of each month by pixel (e.g., mean of 5 years of January) resulting in a 5 year mean of each calendar month over the period 2000 to 2004. The processing steps are outlined.",
 "extent": {
  "xmin": -2.0037507842788246E7,
  "ymin": -3.024097145838614E7,
  "xmax": 2.00364175253799E7,
  "ymax": 3.024097145838615E7,
  "spatialReference": {
   "wkid": 102100,
   "latestWkid": 3857
  }
 },
 "initialExtent": {
  "xmin": -2.0037507842788246E7,
  "ymin": -3.024097145838614E7,
  "xmax": 2.00364175253799E7,
  "ymax": 3.024097145838615E7,
  "spatialReference": {
   "wkid": 102100,
   "latestWkid": 3857
  }
 },
 "fullExtent": {
  "xmin": -2.0037507842788246E7,
  "ymin": -3.024097145838614E7,
  "xmax": 2.00364175253799E7,
  "ymax": 3.024097145838615E7,
  "spatialReference": {
   "wkid": 102100,
   "latestWkid": 3857
  }
 },
 "sortableFields": "",
 "bandCount": 1,
 "pixelType": "F32",
 "minValues": [
  0.005671035964041948
 ],
 "maxValues": [
  99.97590637207031
 ],
 "meanValues": [
  1.8676736812066566
 ],
 "stdvValues": [
  2.8709626827284445
 ],
 "hasMultidimensions": true,
 "timeInfo": {
  "startTimeField": "StdTime",
  "endTimeField": "StdTime",
  "timeExtent": [
   946684800000,
   1606780800000
  ],
  "timeReference": null,
  "defaultTimeInterval": 1,
  "defaultTimeIntervalUnits": "esriTimeUnitsMonths"
 },
 "pixelSizeX": 4638.185806500943,
 "pixelSizeY": 4638.185806500943,
 "meanPixelSize": 4638.185806500943,
 "datasetFormat": "Cache/LERC2D",
 "uncompressedSize": 450662400,
 "blockWidth": 512,
 "blockHeight": 512,
 "compressionType": "LERC2D",
 "bandNames": [
  "Band_1"
 ],
 "allowCopy": true,
 "allowAnalysis": true,
 "itemAccess": false,
 "defaultVariable": "",
 "inspectionCapabilities": "",
 "noDataValue": 3.3999999521443642E38,
 "noDataValues": [
  3.3999999521443642E38
 ],
 "minPixelSize": 0,
 "maxPixelSize": 0,
 "copyrightText": "GEO Blue Planet, United Nations Environment Programme (UNEP), Esri",
 "serviceDataType": "esriImageServiceDataTypeScientific",
 "serviceSourceType": "esriImageServiceSourceTypeDataset",
 "objectIdField": "",
 "fields": [],
 "capabilities": "Image,Metadata,Mensuration",
 "defaultMosaicMethod": "Center",
 "allowedMosaicMethods": "",
 "sortField": "",
 "sortValue": null,
 "sortAscending": true,
 "mosaicOperator": "First",
 "defaultCompressionQuality": 75,
 "defaultResamplingMethod": "Bilinear",
 "maxImageHeight": 4100,
 "maxImageWidth": 15000,
 "allowRasterFunction": true,
 "rasterFunctionInfos": [
  {
   "name": "None",
   "description": "",
   "help": ""
  }
 ],
 "rasterTypeInfos": [
  {
   "name": "Raster Dataset",
   "description": "Supports all ArcGIS Raster Datasets",
   "help": ""
  }
 ],
 "mensurationCapabilities": "Basic",
 "hasHistograms": true,
 "hasColormap": false,
 "hasRasterAttributeTable": false,
 "minScale": 0,
 "maxScale": 0,
 "exportTilesAllowed": false,
 "supportsStatistics": false,
 "supportsAdvancedQueries": false,
 "editFieldsInfo": null,
 "ownershipBasedAccessControlForRasters": null,
 "allowComputeTiePoints": false,
 "useStandardizedQueries": true,
 "transposeInfo": {
  "cols": 32,
  "rows": 32
 },
 "advancedQueryCapabilities": {
  "useStandardizedQueries": true,
  "supportsStatistics": false,
  "supportsOrderBy": false,
  "supportsDistinct": false,
  "supportsPagination": false
 },
 "spatialReference": {
  "wkid": 102100,
  "latestWkid": 3857
 }
}
