{
 "currentVersion": 11.2,
 "serviceDescription": "An additional sub-indicator will be provided to evaluate the intra-annual changes in chlorophyll-a concentration anomalies in each Exclusive Economic Zone (EEZ) using the NOAA VIIRS chlorophyll-a ratio anomaly product produced daily for the globe at 2 km spatial resolution. The daily global VIIRS chlorophyll-a concentrations are produced from the NOAA Multi-Sensor Level 1 to Level 2 (MSL12) processing of the VIIRS sensor on the Suomi SNPP satellite. [Wang et al., 2017; Wang et al.,2014] This anomaly product is defined as the daily chlorophyll-a concentration subtracted from a rolling 61-day mean baseline with a 15 day lag (based on Stumpf et al., 2003), then normalized to the rolling 61 day mean to create the proportional difference anomaly.",
 "name": "chlorophyll/chlorophyll_sub2_monthly_frequency",
 "description": "An additional sub-indicator will be provided to evaluate the intra-annual changes in chlorophyll-a concentration anomalies in each Exclusive Economic Zone (EEZ) using the NOAA VIIRS chlorophyll-a ratio anomaly product produced daily for the globe at 2 km spatial resolution. The daily global VIIRS chlorophyll-a concentrations are produced from the NOAA Multi-Sensor Level 1 to Level 2 (MSL12) processing of the VIIRS sensor on the Suomi SNPP satellite. [Wang et al., 2017; Wang et al.,2014] This anomaly product is defined as the daily chlorophyll-a concentration subtracted from a rolling 61-day mean baseline with a 15 day lag (based on Stumpf et al., 2003), then normalized to the rolling 61 day mean to create the proportional difference anomaly.",
 "extent": {
  "xmin": -2.00375070672E7,
  "ymin": -3.024097145838614E7,
  "xmax": 2.003876557899007E7,
  "ymax": 3.024097145838615E7,
  "spatialReference": {
   "wkid": 102100,
   "latestWkid": 3857
  }
 },
 "initialExtent": {
  "xmin": -2.00375070672E7,
  "ymin": -3.024097145838614E7,
  "xmax": 2.003876557899007E7,
  "ymax": 3.024097145838615E7,
  "spatialReference": {
   "wkid": 102100,
   "latestWkid": 3857
  }
 },
 "fullExtent": {
  "xmin": -2.00375070672E7,
  "ymin": -3.024097145838614E7,
  "xmax": 2.003876557899007E7,
  "ymax": 3.024097145838615E7,
  "spatialReference": {
   "wkid": 102100,
   "latestWkid": 3857
  }
 },
 "sortableFields": "",
 "bandCount": 1,
 "pixelType": "F32",
 "minValues": [
  1
 ],
 "maxValues": [
  28
 ],
 "meanValues": [
  1.6572856804552105
 ],
 "stdvValues": [
  1.4173898458113185
 ],
 "hasMultidimensions": true,
 "timeInfo": {
  "startTimeField": "StdTime",
  "endTimeField": "StdTime_Max",
  "timeExtent": [
   1514809970000,
   1620649970000
  ],
  "timeReference": null,
  "defaultTimeInterval": 19.76140096,
  "defaultTimeIntervalUnits": "esriTimeUnitsDays"
 },
 "pixelSizeX": 2318.8261671116165,
 "pixelSizeY": 2318.8261671116165,
 "meanPixelSize": 2318.8261671116165,
 "datasetFormat": "Cache/LERC2D",
 "uncompressedSize": 1803169956,
 "blockWidth": 256,
 "blockHeight": 256,
 "compressionType": "LERC2D",
 "bandNames": [
  "Band_1"
 ],
 "allowCopy": true,
 "allowAnalysis": true,
 "itemAccess": false,
 "defaultVariable": "Moderate Anomaly Frequency",
 "inspectionCapabilities": "",
 "noDataValue": -3.4028230607370965E38,
 "noDataValues": [
  -3.4028230607370965E38
 ],
 "minPixelSize": 0,
 "maxPixelSize": 0,
 "copyrightText": "GEO Blue Planet, United Nations Environment Programme (UNEP), Esri",
 "serviceDataType": "esriImageServiceDataTypeScientific",
 "serviceSourceType": "esriImageServiceSourceTypeDataset",
 "objectIdField": "",
 "fields": [],
 "capabilities": "Image,Metadata,Mensuration",
 "defaultMosaicMethod": "Center",
 "allowedMosaicMethods": "",
 "sortField": "",
 "sortValue": null,
 "sortAscending": true,
 "mosaicOperator": "First",
 "defaultCompressionQuality": 75,
 "defaultResamplingMethod": "Bilinear",
 "maxImageHeight": 4100,
 "maxImageWidth": 15000,
 "allowRasterFunction": true,
 "rasterFunctionInfos": [
  {
   "name": "None",
   "description": "",
   "help": ""
  }
 ],
 "rasterTypeInfos": [
  {
   "name": "Raster Dataset",
   "description": "Supports all ArcGIS Raster Datasets",
   "help": ""
  }
 ],
 "mensurationCapabilities": "Basic",
 "hasHistograms": true,
 "hasColormap": false,
 "hasRasterAttributeTable": false,
 "minScale": 0,
 "maxScale": 0,
 "exportTilesAllowed": false,
 "supportsStatistics": false,
 "supportsAdvancedQueries": false,
 "editFieldsInfo": null,
 "ownershipBasedAccessControlForRasters": null,
 "allowComputeTiePoints": false,
 "useStandardizedQueries": true,
 "advancedQueryCapabilities": {
  "useStandardizedQueries": true,
  "supportsStatistics": false,
  "supportsOrderBy": false,
  "supportsDistinct": false,
  "supportsPagination": false
 },
 "spatialReference": {
  "wkid": 102100,
  "latestWkid": 3857
 }
}
