View In:
ArcGIS JavaScript
ArcGIS Online Map Viewer
ArcGIS Earth
Service Description: Sea Surface Temperature is a key measurement for weather and climate prediction, ocean forecasts, tropical cyclone forecasts, and coastal applications such as fisheries, pollution monitoring, and tourism. For example, scientists use sea surface temperature data to forecast El Niño and La Niña events.
Name: SST
Description: Sea Surface Temperature is a key measurement for weather and climate prediction, ocean forecasts, tropical cyclone forecasts, and coastal applications such as fisheries, pollution monitoring, and tourism. For example, scientists use sea surface temperature data to forecast El Niño and La Niña events.
Single Fused Map Cache: false
Extent:
XMin: -180
YMin: -89.99999847
XMax: 179.99999387999998
YMax: 89.99999847
Spatial Reference: 4326
(4326)
Initial Extent:
XMin: -180
YMin: -89.99999847
XMax: 179.99999387999998
YMax: 89.99999847
Spatial Reference: 4326
(4326)
Full Extent:
XMin: -180
YMin: -89.99999847
XMax: 179.99999387999998
YMax: 89.99999847
Spatial Reference: 4326
(4326)
Time Info:
Start Time Field: StdTime
End Time Field: StdTime
Time Extent:
[1985/01/01 12:00:00 UTC, 2026/05/17 12:00:00 UTC]
Time Reference:
N/A
Pixel Size X: 0.049999999149999995
Pixel Size Y: 0.049999999149999995
Band Count: 1
Pixel Type: F32
RasterFunction Infos: {"rasterFunctionInfos": [{
"name": "None",
"description": "Make a Raster or Raster Dataset into a Function Raster Dataset.",
"help": ""
}]}
Mensuration Capabilities: Basic
Inspection Capabilities:
Has Histograms: true
Has Colormap: false
Has Multi Dimensions : true
Rendering Rule:
Min Scale: 0
Max Scale: 0
Copyright Text: NOAA Coral Reef Watch
Service Data Type: esriImageServiceDataTypeScientific
Min Values: 0
Max Values: 251
Mean Values: 124.33116016439851
Standard Deviation Values: 125.33046318055806
Object ID Field:
Fields:
None
Default Mosaic Method: Center
Allowed Mosaic Methods:
SortField:
SortValue: null
Mosaic Operator: First
Default Compression Quality: 75
Default Resampling Method: Bilinear
Max Record Count: null
Max Image Height: 4100
Max Image Width: 15000
Max Download Image Count: null
Max Mosaic Image Count: null
Allow Raster Function: true
Allow Copy: true
Allow Analysis: true
Allow Compute TiePoints: false
Supports Statistics: false
Supports Advanced Queries: false
Use StandardizedQueries: true
Raster Type Infos:
Name: Raster Dataset
Description: Supports all ArcGIS Raster Datasets
Help:
Has Raster Attribute Table: false
Edit Fields Info: null
Ownership Based AccessControl For Rasters: null
Child Resources:
Info
Histograms
Statistics
Key Properties
Legend
Raster Function Infos
Multidimensional Info
Slices
Supported Operations:
Export Image
Identify
Measure
Compute Histograms
Compute Statistics Histograms
Get Samples
Compute Class Statistics
Query Boundary
Compute Pixel Location
Compute Angles
Validate
Project