View In:
ArcGIS JavaScript
ArcGIS Online Map Viewer
ArcGIS Earth
Service Description: An additional sub-indicator will be provided to evaluate the intra-annual changes in chlorophyll-a concentration anomalies in each Exclusive Economic Zone (EEZ) using the NOAA VIIRS chlorophyll-a ratio anomaly product produced daily for the globe at 2 km spatial resolution. The daily global VIIRS chlorophyll-a concentrations are produced from the NOAA Multi-Sensor Level 1 to Level 2 (MSL12) processing of the VIIRS sensor on the Suomi SNPP satellite. [Wang et al., 2017; Wang et al.,2014] This anomaly product is defined as the daily chlorophyll-a concentration subtracted from a rolling 61-day mean baseline with a 15 day lag (based on Stumpf et al., 2003), then normalized to the rolling 61 day mean to create the proportional difference anomaly.
Name: chlorophyll/chlorophyll_sub2_monthly_frequency
Description: An additional sub-indicator will be provided to evaluate the intra-annual changes in chlorophyll-a concentration anomalies in each Exclusive Economic Zone (EEZ) using the NOAA VIIRS chlorophyll-a ratio anomaly product produced daily for the globe at 2 km spatial resolution. The daily global VIIRS chlorophyll-a concentrations are produced from the NOAA Multi-Sensor Level 1 to Level 2 (MSL12) processing of the VIIRS sensor on the Suomi SNPP satellite. [Wang et al., 2017; Wang et al.,2014] This anomaly product is defined as the daily chlorophyll-a concentration subtracted from a rolling 61-day mean baseline with a 15 day lag (based on Stumpf et al., 2003), then normalized to the rolling 61 day mean to create the proportional difference anomaly.
Single Fused Map Cache: false
Extent:
XMin: -2.00375070672E7
YMin: -3.024097145838614E7
XMax: 2.003876557899007E7
YMax: 3.024097145838615E7
Spatial Reference: 102100
(3857)
Initial Extent:
XMin: -2.00375070672E7
YMin: -3.024097145838614E7
XMax: 2.003876557899007E7
YMax: 3.024097145838615E7
Spatial Reference: 102100
(3857)
Full Extent:
XMin: -2.00375070672E7
YMin: -3.024097145838614E7
XMax: 2.003876557899007E7
YMax: 3.024097145838615E7
Spatial Reference: 102100
(3857)
Time Info:
Start Time Field: StdTime
End Time Field: StdTime_Max
Time Extent:
[2018/01/01 12:32:50 UTC, 2021/05/10 12:32:50 UTC]
Time Reference:
N/A
Pixel Size X: 2318.8261671116165
Pixel Size Y: 2318.8261671116165
Band Count: 1
Pixel Type: F32
RasterFunction Infos: {"rasterFunctionInfos": [{
"name": "None",
"description": "",
"help": ""
}]}
Mensuration Capabilities: Basic
Inspection Capabilities:
Has Histograms: true
Has Colormap: false
Has Multi Dimensions : true
Rendering Rule:
Min Scale: 0
Max Scale: 0
Copyright Text: GEO Blue Planet, United Nations Environment Programme (UNEP), Esri
Service Data Type: esriImageServiceDataTypeScientific
Min Values: 1
Max Values: 28
Mean Values: 1.6572856804552105
Standard Deviation Values: 1.4173898458113185
Object ID Field:
Fields:
None
Default Mosaic Method: Center
Allowed Mosaic Methods:
SortField:
SortValue: null
Mosaic Operator: First
Default Compression Quality: 75
Default Resampling Method: Bilinear
Max Record Count: null
Max Image Height: 4100
Max Image Width: 15000
Max Download Image Count: null
Max Mosaic Image Count: null
Allow Raster Function: true
Allow Copy: true
Allow Analysis: true
Allow Compute TiePoints: false
Supports Statistics: false
Supports Advanced Queries: false
Use StandardizedQueries: true
Raster Type Infos:
Name: Raster Dataset
Description: Supports all ArcGIS Raster Datasets
Help:
Has Raster Attribute Table: false
Edit Fields Info: null
Ownership Based AccessControl For Rasters: null
Child Resources:
Info
Histograms
Statistics
Key Properties
Legend
Raster Function Infos
Multidimensional Info
Slices
Supported Operations:
Export Image
Identify
Measure
Compute Histograms
Compute Statistics Histograms
Get Samples
Compute Class Statistics
Query Boundary
Compute Pixel Location
Compute Angles
Validate
Project